BEGIN:VCALENDAR
VERSION:2.0
PRODID:-//IP.Board Calendar 4.5.4.2//EN
METHOD:PUBLISH
CALSCALE:GREGORIAN
X-WR-CALNAME:Календарь
BEGIN:VTIMEZONE
TZID:Europe/London
TZURL:http://tzurl.org/zoneinfo/Europe/London
X-LIC-LOCATION:Europe/London
BEGIN:DAYLIGHT
TZOFFSETFROM:+0000
TZOFFSETTO:+0100
TZNAME:BST
DTSTART:20180325T020000Z
RRULE:FREQ=YEARLY;BYMONTH=3;BYDAY=-1SU
END:DAYLIGHT
BEGIN:STANDARD
TZOFFSETFROM:+0100
TZOFFSETTO:+0000
TZNAME:GMT
DTSTART:20181028T020000Z
RRULE:FREQ=YEARLY;BYMONTH=10;BYDAY=-1SU
END:STANDARD
END:VTIMEZONE
BEGIN:VEVENT
SUMMARY:Лига Spellage 2018
DTSTAMP:20180925T164618Z
SEQUENCE:0
UID:30-1-5a0d80695ad87becc5851a2d61319844@forum.xgame-online.com
ORGANIZER;CN="SMERCH_223":noreply@xgame-online.com
DESCRIPTION:\n\n	Лига Spellage 2018\n\n\n\n	\n\n\n\
	n	Подробнее читайте и регистрируй
	тесь в данной теме!\n\n
DTSTART;VALUE=DATE:20181001
END:VEVENT
END:VCALENDAR
