BEGIN:VCALENDAR
VERSION:2.0
PRODID:-//IP.Board Calendar 4.5.4.2//EN
METHOD:PUBLISH
CALSCALE:GREGORIAN
X-WR-CALNAME:Календарь
BEGIN:VTIMEZONE
TZID:Europe/London
TZURL:http://tzurl.org/zoneinfo/Europe/London
X-LIC-LOCATION:Europe/London
BEGIN:DAYLIGHT
TZOFFSETFROM:+0000
TZOFFSETTO:+0100
TZNAME:BST
DTSTART:20180325T020000Z
RRULE:FREQ=YEARLY;BYMONTH=3;BYDAY=-1SU
END:DAYLIGHT
BEGIN:STANDARD
TZOFFSETFROM:+0100
TZOFFSETTO:+0000
TZNAME:GMT
DTSTART:20181028T020000Z
RRULE:FREQ=YEARLY;BYMONTH=10;BYDAY=-1SU
END:STANDARD
END:VTIMEZONE
BEGIN:VEVENT
SUMMARY:SPELLAGE SPRING CUP 2018
DTSTAMP:20180213T091951Z
SEQUENCE:0
UID:26-1-5a0d80695ad87becc5851a2d61319844@forum.xgame-online.com
ORGANIZER;CN="SMERCH_223":noreply@xgame-online.com
DESCRIPTION:\n\n	Уважаемые игроки!\n\n\n\n	С 13.02.2
	018 по 28.02.2018 мы пр
	оводим регистрацию на наш тре
	тий официальный турнир SPELLAGE
	 SPRING CUP 2018 в нашем параллель
	ном проекте от разработчиков XGame-Online 
	- http://spellage.net - с призовы
	м фондом\, ко
	торый будет с
	оставлен уже по
	сле окончания р
	егистрации. Для по
	бедителей (1-3 ме
	ста) будут дене
	жные призы\, дл
	я всех других участник
	ов призы будут в виде Куидов 
	(или Золота в Spellage).\n\
	n\n	Дабы избежать 
	многих неявок н
	а первой стади
	и турнира\, в эт
	от раз в сетк
	у турнира бу
	дут включены
	 только игрок
	и\, которые л
	ично подтвердят
	 свое участие на турнире оста
	вив сообщение в этой теме:\nhttp://forum.spellage.net
	/index.php?showtopic=50\n\nПосле этог
	о\, 1-го марта буду
	т сформированы
	 список игроков\
	, сетка\, распи
	сание\, опр
	еделен при
	зовой фонд и его 
	распределение ме
	жду всеми участни
	ками на турнире.\n\
	n\n	В турнире мож
	но участвовать
	 всеми 3-мя героям
	и вашего аккаунта.
	 Таким образом\,
	 проиграв одним 
	из 3х своих гер
	оев - Вы про
	должите уча
	стие в турни
	ре за главны
	е призы дру
	гими оставшим
	ися героями. Е
	сли в турнирной
	 сетке так получит
	ься\, что играют др
	уг против друга 2 
	Ваших героя - Вы с
	ами выберите\, к
	акой из них пр
	оходит далее\,
	 но мы макси
	мально их бу
	дет разбрасы
	вать по сетке 
	турнира. Главно
	е условие: уров
	ень вашего гер
	оя должен быть
	 5 или больше 
	(Уровни выда
	ются по коли
	честву добыт
	ых побед в р
	ейтинговых 
	поединках. Для
	 достижения 5го 
	уровня Вам необ
	ходимо добыть все
	го 10 рейтинговых по
	бед). Если Ваш Ге
	рой еще не дос
	тиг 5го уровн
	я - Вы имеет
	е возможно
	сть зарегис
	трироваться в т
	урнире и оставить
	 свою заявку/анкету в данной
	 теме\, но с условием\, что
	 до 28.03.2018 Вы достигни
	те минимум 5го уровня
	\, иначе Вы будете сн
	яты с турнира.\n\
	n\n	Поединки будут п
	роходить в виде товар
	ищеских матчей до 1й побед
	ы\, 1/4 и сам Полуфинал (1/2) 
	до 2х побед и Финал и
	грается до 3х поб
	ед!\n\n\n	Сетка ту
	рнира будет 
	составлена сл
	учайным образом\
	, но учитывая уро
	вни и рейтинг Ге
	роев. То есть\,
	 ТОР игроки 
	будут сеянные
	 и ожидать свои
	х соперников в
	 более высокой
	 стадии турнира\
	, а игроки с боле
	е низким рейтин
	гом начнут турни
	р с 1го раунда\,
	 таким образом име
	я все шансы выйти в
	 финальную часть 
	турнира!\n\n\n	Ук
	ажите в теме 
	для регистра
	ции имена ваш
	их героев и уд
	обное (желате
	льное) время для проведе
	ния игр на турнире. Турн
	ир начнется с 01.03.2018.
	 Не обязательно
	 играть в первый же
	 день\, мы подбере
	м удобное для Ва
	с время и дату\
	, а также игр
	ы можно буд
	ет перенести п
	о согласованию с с
	оперником на любое 
	удобное время и дату!
	\n\n\n	Каждый участву
	ющий\, даже вылет
	евший в 1м же св
	оем бое с турнира полу
	чить призвы в виде Куид
	ов (или Золота)!!!\n\
	n\n	Заполните анк
	ету (что и будет являться
	 регистрацией на турнир) в этой теме:\n\nhttp
	://forum.spellage.net/index.php?showtopic=50 \n\n
DTSTART;VALUE=DATE:20180301
END:VEVENT
END:VCALENDAR
