BEGIN:VCALENDAR
VERSION:2.0
PRODID:-//IP.Board Calendar 4.5.4.2//EN
METHOD:PUBLISH
CALSCALE:GREGORIAN
X-WR-CALNAME:Календарь
BEGIN:VTIMEZONE
TZID:Europe/London
TZURL:http://tzurl.org/zoneinfo/Europe/London
X-LIC-LOCATION:Europe/London
BEGIN:DAYLIGHT
TZOFFSETFROM:+0000
TZOFFSETTO:+0100
TZNAME:BST
DTSTART:20180325T020000Z
RRULE:FREQ=YEARLY;BYMONTH=3;BYDAY=-1SU
END:DAYLIGHT
BEGIN:STANDARD
TZOFFSETFROM:+0100
TZOFFSETTO:+0000
TZNAME:GMT
DTSTART:20181028T020000Z
RRULE:FREQ=YEARLY;BYMONTH=10;BYDAY=-1SU
END:STANDARD
END:VTIMEZONE
BEGIN:VEVENT
SUMMARY:Открытие новой Вселенной с доб
	ычей ресурсов х10
DTSTAMP:20171208T210046Z
SEQUENCE:0
UID:25-1-5a0d80695ad87becc5851a2d61319844@forum.xgame-online.com
ORGANIZER;CN="SMERCH_223":noreply@xgame-online.com
DESCRIPTION:\n\n	21я Вселенная x10 - бу
	дет открыта 1го марта 2
	018 года\, скорость
	 добычи ресурсов x
	10\, скорость исследо
	вания и строительства х1\,
	 оборона в обломки (ОвО) - 20
	%\, 1 галактика\, время пол
	ета флотов х1.\n\n\n
	\n	Ближе к от
	крытию дан
	ной Вселенной
	 будут проведе
	ны Опросы по ее с
	корости добычи ресур
	сов\, ОвО и времени п
	олета флотов.\n\n\n\n	В
	селенная в будуще
	м будет соединена
	 с 18-20 Вселенны
	ми. Также м
	ы планируем добавить но
	вые характеристики. Ваши идеи принимаю
	тся!\n\n
DTSTART;VALUE=DATE:20180301
END:VEVENT
END:VCALENDAR
