BEGIN:VCALENDAR
VERSION:2.0
PRODID:-//IP.Board Calendar 4.5.4.2//EN
METHOD:PUBLISH
CALSCALE:GREGORIAN
X-WR-CALNAME:Календарь
BEGIN:VTIMEZONE
TZID:Europe/London
TZURL:http://tzurl.org/zoneinfo/Europe/London
X-LIC-LOCATION:Europe/London
BEGIN:DAYLIGHT
TZOFFSETFROM:+0000
TZOFFSETTO:+0100
TZNAME:BST
DTSTART:20170326T020000Z
RRULE:FREQ=YEARLY;BYMONTH=3;BYDAY=-1SU
END:DAYLIGHT
BEGIN:STANDARD
TZOFFSETFROM:+0100
TZOFFSETTO:+0000
TZNAME:GMT
DTSTART:20171029T020000Z
RRULE:FREQ=YEARLY;BYMONTH=10;BYDAY=-1SU
END:STANDARD
END:VTIMEZONE
BEGIN:VEVENT
SUMMARY:Турнир SPELLAGE SPRING CUP 2017
DTSTAMP:20170220T103718Z
SEQUENCE:0
UID:20-1-5a0d80695ad87becc5851a2d61319844@forum.xgame-online.com
ORGANIZER;CN="SMERCH_223":noreply@xgame-online.com
DESCRIPTION:\n	\n		\n			2й турнир нашег
	о параллельного проект
	а Spellage с призовым фондом 100
	00 российских рублей и 100000 куид
	ов (или золота)!\n		\n\n	
		\n			Турнир буде
	т проходить п
	о совершенно 
	другой систем
	е\, с сеянными
	 игроками. Такж
	е будут принимат
	ь участие все гер
	ои одного аккаунта\, н
	о с условием\, что они по
	падут в ТОР64 рейтинга Spellage. Информ
	ация о турнире: SPELLAGE SPRING CUP 2017\n		\n\n
			\n			Кстати\, мы буде
	м проводить 12 
	ежемесячных тур
	ниров\, 4 основн
	ых турнира по к
	аждому времени
	 года\, а также
	 главный тур
	нир из 4х поб
	едителей о
	сновных турн
	иров и высшие и
	гроки рейтинга (без
	 учета победителей 4х 
	турниров)! Они образ
	уют 1/4 или 1/2 фина
	ла (в зависи
	мости от кол
	ичества одинаковых игроков
	) и разыграют звание чемпиона года!\n		\n	\n
DTSTART;VALUE=DATE:20170519
END:VEVENT
END:VCALENDAR
