BEGIN:VCALENDAR
VERSION:2.0
PRODID:-//IP.Board Calendar 4.5.4.2//EN
METHOD:PUBLISH
CALSCALE:GREGORIAN
X-WR-CALNAME:Календарь
BEGIN:VTIMEZONE
TZID:Europe/London
TZURL:http://tzurl.org/zoneinfo/Europe/London
X-LIC-LOCATION:Europe/London
BEGIN:DAYLIGHT
TZOFFSETFROM:+0000
TZOFFSETTO:+0100
TZNAME:BST
DTSTART:20160327T020000Z
RRULE:FREQ=YEARLY;BYMONTH=3;BYDAY=-1SU
END:DAYLIGHT
BEGIN:STANDARD
TZOFFSETFROM:+0100
TZOFFSETTO:+0000
TZNAME:GMT
DTSTART:20161030T020000Z
RRULE:FREQ=YEARLY;BYMONTH=10;BYDAY=-1SU
END:STANDARD
END:VTIMEZONE
BEGIN:VEVENT
SUMMARY:Открытие Spellage!
DTSTAMP:20161006T174929Z
SEQUENCE:0
UID:18-1-5a0d80695ad87becc5851a2d61319844@forum.xgame-online.com
ORGANIZER;CN="SMERCH_223":noreply@xgame-online.com
DESCRIPTION:\n\n	\n\n\n\n	Открытие новой
	 онлайн стратегии Spellage
	 с элементами ККИ\, RPG и такт
	ических игр (от разработчиков
	 XGame-Online)\n\n\n\n	Скачайте игру 
	компьютерной версии для WINDOWS в этой теме:
	 http://forum.spellage.net/index.php?/topic/10-скачай-spellage/\n\
	n\n\n	Прямая ссылка на
	 скачивание: скачать
	 игру\n\n\n\n	Анонсирован
	ный турнир по игре на 1е
	 декабря 2016 года с призовым фондом 10000
	 рублей: SPELLAGE WINTER CUP 2016\n\n\n
	\n	Уникальная возможнос
	ть для игроков XGame-Online также 
	заработать и куиды в XGame
	 играя в Spellage. Для эт
	ого необходимо попасть 
	на 1е декабря в ТОР64 рейтинг
	а Spellage и принять участие в турнире SPE
	LLAGE WINTER CUP 2016. Таким образом мы разыг
	раем 77000 куидов!\n\n\n\n	1 место - 10000 куид
	ов\n\n\n\n	2 место - 7000 куидов\n\n\n\n	3 место 
	- 5000 куидов\n\n\n\n	4 место - 3000 куидов
	\n\n\n\n	5-8 места (участники 1/4 финала) -
	 2000 куидов\n\n\n\n	9-16 места (участники
	 1/8 финала) - 1500 куидов\n\n\n\n	17-32 м
	еста (участники 1/16 финала) - 1000
	 куидов\n\n\n\n	33-64 места (участники 1/3
	2 финала) - 500 куидов\n\n\n\n
		P.S. Для получения
	 куидов Вам нужно буд
	ет сообщить заранее\, какой ник
	 у Вас в XGame и какой будет в
	 Spellage\, желательно создава
	ть подобные.\n\n\n\n	В
	НИМАНИЕ!!! Пока
	 не большой онла
	йн и в рейтинго
	вых боях может
	 не быть заявок -
	 Вы можете для
	 тренировки с
	ыграть с компьютер
	ом (ботом). Для эт
	ого выберите закладку 
	АРЕНА / В БОЙ / ПОЕДИНОК
	 С КОМПЬЮТЕРОМ.\n\n\
	n\n	Помните\, чт
	о всегда можно
	 повторно пройти 
	Обучение в закла
	дке КВЕСТЫ / ОБУЧЕ
	НИЕ / ОСНОВЫ БОЯ
	\, там же есть ежедне
	вные задания. По всем вопросам пишит
	е на форум Spellage: http://forum.spellage.net\n\n
DTSTART;VALUE=DATE:20161007
END:VEVENT
END:VCALENDAR
